BEGIN:VCALENDAR
X-WR-TIMEZONE:Europe/Berlin
X-WR-CALNAME:rbb-Kalender
VERSION:2.0
METHOD:PUBLISH
CALSCALE:GREGORIAN
PRODID:rbb-CMS DAY
BEGIN:VEVENT
CLASS:PUBLIC
URL:http://www.rbb-online.de/content/rbb/rbb/fernsehen/beitrag/jorinde-und-joringel.html
DTEND:20131225T090000
DTSTART:20131225T090000
UID:/content/rbb/rbb/fernsehen/beitrag/jorinde-und-joringel
DTSTAMP:20140408T075002
DESCRIPTION:Jorinde und Joringel träumen von einer gemeinsamen Zukunft. Doch da Joringel nur als Knecht am Hof von Jorindes Vater arbeitet, hält der ihn für einen Taugenichts und Tunichtgut.\n
SUMMARY:Jorinde und Joringel
END:VEVENT
END:VCALENDAR
