BEGIN:VCALENDAR
X-WR-TIMEZONE:Europe/Berlin
X-WR-CALNAME:rbb-Kalender
VERSION:2.0
METHOD:PUBLISH
CALSCALE:GREGORIAN
PRODID:rbb-CMS DAY
BEGIN:VEVENT
CLASS:PUBLIC
URL:http://www.rbb-online.de/content/rbb/rbb/fernsehen/beitrag/rapunzel.html
DTEND:20131224T103000
DTSTART:20131224T103000
UID:/content/rbb/rbb/fernsehen/beitrag/rapunzel
DTSTAMP:20140408T075039
DESCRIPTION:"Rapunzel, Rapunzel lass dein Haar herunter!" Sobald die Zauberin diese Worte spricht, lässt Rapunzel ihr goldenes Haar aus dem Turm herab.\n\n\n
SUMMARY:Rapunzel
END:VEVENT
END:VCALENDAR
