BEGIN:VCALENDAR
X-WR-TIMEZONE:Europe/Berlin
X-WR-CALNAME:rbb-Kalender
VERSION:2.0
METHOD:PUBLISH
CALSCALE:GREGORIAN
PRODID:rbb-CMS DAY
BEGIN:VEVENT
CLASS:PUBLIC
URL:http://www.rbb-online.de/content/rbb/rbb/fernsehen/beitrag/vier-unschuldige-und-ein-todesfall.html
DTEND:20131213T201500
DTSTART:20131213T201500
UID:/content/rbb/rbb/fernsehen/beitrag/vier-unschuldige-und-ein-todesfall
DTSTAMP:20140407T163656
DESCRIPTION:In Moabit wird der Witwer Konrad Klopp tot im Flur seiner Wohnung aufgefunden. Er hat noch Mantel und Schal an. Aber seltsamerweise weder Schuhe noch Socken. Dass Klopp vergiftet wurde, steht fest. Aber warum? Nun ist das Rateteam am Zug. In der Auftaktfolge ermitteln Schauspielerinnen und Schauspieler mit viel Krimi-Erfahrung: Gesine Cukrowski, ChrisTine Urspruch und Stefan Jürgens befragen Tatverdächtige, bewerten Indizien und dürfen sich nicht von Zeugen austricksen lassen.\n\n\n
SUMMARY:Vier Unschuldige und ein Todesfall
END:VEVENT
END:VCALENDAR
