BEGIN:VCALENDAR
X-WR-TIMEZONE:Europe/Berlin
X-WR-CALNAME:rbb-Kalender
VERSION:2.0
METHOD:PUBLISH
CALSCALE:GREGORIAN
PRODID:rbb-CMS DAY
BEGIN:VEVENT
CLASS:PUBLIC
URL:http://www.rbb-online.de/content/rbb/rbb/fernsehen/beitrag/zwerg-nase.html
DTEND:20131207T100000
DTSTART:20131207T100000
UID:/content/rbb/rbb/fernsehen/beitrag/zwerg-nase
DTSTAMP:20140408T074751
DESCRIPTION:Jakob ist ein hübscher, verträumter, behüteter Junge. Statt dem Vater in der Schusterwerkstatt zu helfen, geht der Zwölfjährige lieber seiner Mutter an ihrem Gemüsestand auf dem Markt zur Hand.\n\n\n
SUMMARY:Zwerg Nase
END:VEVENT
END:VCALENDAR
