BEGIN:VCALENDAR
X-WR-TIMEZONE:Europe/Berlin
X-WR-CALNAME:rbb-Kalender
VERSION:2.0
METHOD:PUBLISH
CALSCALE:GREGORIAN
PRODID:rbb-CMS DAY
BEGIN:VEVENT
LOCATION:Moderation: Dirk Platt
CLASS:PUBLIC
URL:http://www.rbb-online.de/content/rbb/rbb/fernsehen/programm/01_04_2014/11868782678.html
DTEND:20140401T030500
DTSTART:20140401T023500
UID:/content/rbb/rbb/fernsehen/programm/01_04_2014/11868782678
DTSTAMP:20140404T194200
DESCRIPTION:Themen u.a.:\n* 10 Jahre Medienboard Berlin-Brandenburg\n* Versenkte Investitionen im Hafen von Königs Wusterhausen\n* Forscher statten Feldhasen mit Sendern aus
SUMMARY:Brandenburg aktuell 01.04.2014 02:35
END:VEVENT
END:VCALENDAR
