BEGIN:VCALENDAR
X-WR-TIMEZONE:Europe/Berlin
X-WR-CALNAME:rbb-Kalender
VERSION:2.0
METHOD:PUBLISH
CALSCALE:GREGORIAN
PRODID:rbb-CMS DAY
BEGIN:VEVENT
LOCATION:zuhause in berlin & brandenburg
CLASS:PUBLIC
URL:http://www.rbb-online.de/content/rbb/rbb/fernsehen/programm/01_04_2014/11868782698.html
DTEND:20140401T040000
DTSTART:20140401T030500
UID:/content/rbb/rbb/fernsehen/programm/01_04_2014/11868782698
DTSTAMP:20140404T194521
DESCRIPTION:Angela Fritzsch und Harald Pignatelli präsentieren u.a. diese Themen:\n* Big-Band-Sound & starke Texte - Roger Cicero mit neuem Album zu Gast\n* Viren auf dem Computer - Sicherheitssoftware im Test\n* Vor dem Berlin-Brandenburg-Derby - Aufstiegsträume & Abstiegsängste beim Spiel Union Berlin - Energie Cottbus
SUMMARY:zibb 01.04.2014 03:05
END:VEVENT
END:VCALENDAR
