BEGIN:VCALENDAR
X-WR-TIMEZONE:Europe/Berlin
X-WR-CALNAME:rbb-Kalender
VERSION:2.0
METHOD:PUBLISH
CALSCALE:GREGORIAN
PRODID:rbb-CMS DAY
BEGIN:VEVENT
LOCATION:Moderation: Daniel Gäsche
CLASS:PUBLIC
URL:http://www.rbb-online.de/content/rbb/rbb/fernsehen/programm/01_04_2014/11868782721.html
DTEND:20140401T043000
DTSTART:20140401T040000
UID:/content/rbb/rbb/fernsehen/programm/01_04_2014/11868782721
DTSTAMP:20140404T194135
DESCRIPTION:Themen u.a.:\n* Altes Umgebindehaus: zog von Görlitz nach Buckow\n* Alter Hafen: urige Kneipe in Rostock\n* Wilder Hengst: sorgt für Nachwuchs im Bergzoo Halle
SUMMARY:rbb UM SECHS - Das Ländermagazin 01.04.2014 04:00
END:VEVENT
END:VCALENDAR
