BEGIN:VCALENDAR
X-WR-TIMEZONE:Europe/Berlin
X-WR-CALNAME:rbb-Kalender
VERSION:2.0
METHOD:PUBLISH
CALSCALE:GREGORIAN
PRODID:rbb-CMS DAY
BEGIN:VEVENT
LOCATION:Was unsere Stimme verrät
CLASS:PUBLIC
URL:http://www.rbb-online.de/content/rbb/rbb/fernsehen/programm/01_04_2014/11868782795.html
DTEND:20140401T063000
DTSTART:20140401T060000
UID:/content/rbb/rbb/fernsehen/programm/01_04_2014/11868782795
DTSTAMP:20140404T190747
DESCRIPTION:Wenn zwei dasselbe sagen, bedeutet es bei weitem nicht immer dasselbe. Denn Stimmfarbe, Sprachmelodie oder Atemtechnik variieren von Mensch zu Mensch, von Situation zu Situation erheblich. Und mit diesem "Singsang" in unserer Stimme vermitteln wir oft mehr Inhalt als über Worte. Durch Stimme und Sprechweise verraten wir auch viel über uns selbst.
SUMMARY:Mehr als 1000 Worte 01.04.2014 06:00
END:VEVENT
END:VCALENDAR
