BEGIN:VCALENDAR
X-WR-TIMEZONE:Europe/Berlin
X-WR-CALNAME:rbb-Kalender
VERSION:2.0
METHOD:PUBLISH
CALSCALE:GREGORIAN
PRODID:rbb-CMS DAY
BEGIN:VEVENT
LOCATION:Das Hochzeitskleid aus Salz
CLASS:PUBLIC
URL:http://www.rbb-online.de/content/rbb/rbb/fernsehen/programm/01_04_2014/11868782844.html
DTEND:20140401T074000
DTSTART:20140401T073000
UID:/content/rbb/rbb/fernsehen/programm/01_04_2014/11868782844
DTSTAMP:20140404T190711
DESCRIPTION:Ein Hochzeitskleid soll entstehen. Eine Traumrobe, über und über besetzt mit glitzernden Kristallen. Das Material des Kleides: Salz. Schneeweiß, funkelnd und ausgesprochen schwer zu verarbeiten. Die Salzkörner müssen sich an einem Drahtgerüst anlagern, ein kompliziertes Unterfangen. Temperatur, Mischung und Experimentdauer - alles muss exakt aufeinander abgestimmt sein. Nur so gelingt die perfekte Verbindung. Eine große Herausforderung für das Team.
SUMMARY:Achtung! Experiment 01.04.2014 07:30
END:VEVENT
END:VCALENDAR
