BEGIN:VCALENDAR
X-WR-TIMEZONE:Europe/Berlin
X-WR-CALNAME:rbb-Kalender
VERSION:2.0
METHOD:PUBLISH
CALSCALE:GREGORIAN
PRODID:rbb-CMS DAY
BEGIN:VEVENT
LOCATION:Am Ball bleiben
CLASS:PUBLIC
URL:http://www.rbb-online.de/content/rbb/rbb/fernsehen/programm/01_04_2014/11868782858.html
DTEND:20140401T080000
DTSTART:20140401T075000
UID:/content/rbb/rbb/fernsehen/programm/01_04_2014/11868782858
DTSTAMP:20140404T190424
DESCRIPTION:Wer einen Ball in die Luft wirft, möchte ihn wiederhaben. Kein Problem - senkrecht in die Höhe geworfen, kehrt der Ball brav zum Werfer zurück. Das gleiche gilt, wenn der Werfer sich beim Werfen vorwärts bewegt. Selbst in einem rasenden Zug - senkrecht geworfen, fällt der Ball immer wieder in die Hand des Werfers zurück. Funktioniert das wirklich immer und überall? Wir wollen es wissen und planen den ganz großen Wurf. Von einem fahrenden Lastwagen aus schleudern wir mit einer Wurfmaschine einen Ball senkrecht und sehr hoch in die Luft. Fällt auch dieser Ball wieder zurück auf den fahrenden Lastwagen?
SUMMARY:Achtung! Experiment 01.04.2014 07:50
END:VEVENT
END:VCALENDAR
