BEGIN:VCALENDAR
X-WR-TIMEZONE:Europe/Berlin
X-WR-CALNAME:rbb-Kalender
VERSION:2.0
METHOD:PUBLISH
CALSCALE:GREGORIAN
PRODID:rbb-CMS DAY
BEGIN:VEVENT
LOCATION:Leben & genießen
CLASS:PUBLIC
URL:http://www.rbb-online.de/content/rbb/rbb/fernsehen/programm/01_04_2014/11868782926.html
DTEND:20140401T103500
DTSTART:20140401T095500
UID:/content/rbb/rbb/fernsehen/programm/01_04_2014/11868782926
DTSTAMP:20140404T190723
DESCRIPTION:* Guten Appetit: Karlheinz Hauser bereitet glasierten Schweinebauch mit Gurkensalat und Punzu-Vinaigrette zu\n* Ratgeber Ernährung: Japanische Hausmannskost aus Trier\n* Hallo Buffet: Mietrecht! Ihre Fragen zum Thema werden von Rechtsanwalt Thomas Hannemann beantwortet\n* Ratgeber: Mietkaution - Welche Rechte hat der Mieter?\n* Ratgeber: Wer wohnt denn da im Hochhaus?\n* Die gute Idee mit Holger Schweizer: Buchsbaumkranz in Tropfenform\n\nModeration: Heike Greis
SUMMARY:ARD-Buffet 01.04.2014 09:55
END:VEVENT
END:VCALENDAR
