BEGIN:VCALENDAR
X-WR-TIMEZONE:Europe/Berlin
X-WR-CALNAME:rbb-Kalender
VERSION:2.0
METHOD:PUBLISH
CALSCALE:GREGORIAN
PRODID:rbb-CMS DAY
BEGIN:VEVENT
LOCATION:Jugendserie Deutschland 1998 - 2011
CLASS:PUBLIC
URL:http://www.rbb-online.de/content/rbb/rbb/fernsehen/programm/01_04_2014/11868783015.html
DTEND:20140401T133000
DTSTART:20140401T130500
UID:/content/rbb/rbb/fernsehen/programm/01_04_2014/11868783015
DTSTAMP:20140404T190701
DESCRIPTION:Mikes Liebesbäumchen für Kim sorgt auf Schloss Einstein für richtiges Aufsehen und bei seiner Angebetenen für gemischte Gefühle: Denn eigentlich erwidert Kim Mikes Liebe nicht. Natürlich will sie sich trotzdem bei ihrem Freund bedanken und lässt als "Revanche" supertolle, verrückte Porträts von sich machen, allerdings mit einem Hintergedanken.
SUMMARY:Schloss Einstein (222) 01.04.2014 13:05
END:VEVENT
END:VCALENDAR
