BEGIN:VCALENDAR
X-WR-TIMEZONE:Europe/Berlin
X-WR-CALNAME:rbb-Kalender
VERSION:2.0
METHOD:PUBLISH
CALSCALE:GREGORIAN
PRODID:rbb-CMS DAY
BEGIN:VEVENT
CLASS:PUBLIC
URL:http://www.rbb-online.de/content/rbb/rbb/fernsehen/programm/01_04_2014/11868783081.html
DTEND:20140401T160500
DTSTART:20140401T160000
UID:/content/rbb/rbb/fernsehen/programm/01_04_2014/11868783081
DTSTAMP:20140404T190706
DESCRIPTION:Wir informieren Sie täglich mehrmals mit Nachrichtenausgaben über wichtige aktuelle Ereignisse der Region. Immer mittwochs gibt es empfehlenswerte Filmpremieren, donnerstags die wichtigsten Veranstaltungen des Wochenendes in Berlin und Brandenburg. 365 Tage im Jahr - das Wichtigste vom Tage aus Berlin und Brandenburg.
SUMMARY:rbb AKTUELL 01.04.2014 16:00
END:VEVENT
END:VCALENDAR
