BEGIN:VCALENDAR
X-WR-TIMEZONE:Europe/Berlin
X-WR-CALNAME:rbb-Kalender
VERSION:2.0
METHOD:PUBLISH
CALSCALE:GREGORIAN
PRODID:rbb-CMS DAY
BEGIN:VEVENT
LOCATION:Oberspreewald-Lausitz
CLASS:PUBLIC
URL:http://www.rbb-online.de/content/rbb/rbb/fernsehen/programm/01_04_2014/11868783100.html
DTEND:20140401T165000
DTSTART:20140401T160500
UID:/content/rbb/rbb/fernsehen/programm/01_04_2014/11868783100
DTSTAMP:20140404T190715
DESCRIPTION:Der Berlin-Brandenburg Check geht mit einer neuen Staffel in die zweite Runde. Diesmal sind die Reporter unterwegs im Landkreis Oberspreewald -Lausitz. Die großen Zeiten des Bergbaus sind in der Region vorbei. Wo verdient man hier sein Geld? Welche Freizeitangebote gibt es und warum ziehen aus der landschaftlich so schönen Gegend so viele Leute weg?
SUMMARY:Der Berlin-Brandenburg Check 01.04.2014 16:05
END:VEVENT
END:VCALENDAR
