BEGIN:VCALENDAR
X-WR-TIMEZONE:Europe/Berlin
X-WR-CALNAME:rbb-Kalender
VERSION:2.0
METHOD:PUBLISH
CALSCALE:GREGORIAN
PRODID:rbb-CMS DAY
BEGIN:VEVENT
LOCATION:Liebe allein oder zu zweit?
CLASS:PUBLIC
URL:http://www.rbb-online.de/content/rbb/rbb/fernsehen/programm/01_04_2014/11868783421.html
DTEND:20140402T001500
DTSTART:20140401T233000
UID:/content/rbb/rbb/fernsehen/programm/01_04_2014/11868783421
DTSTAMP:20140404T190710
DESCRIPTION:In Deutschland sollen laut Umfragen um die elf Millionen Singles leben, Trend steigend. Auch wenn nicht alle damit unglücklich sind, viele wünschen sich endlich eine funktionierende Partnerschaft. Leichter gesagt als getan, denn die Suche nach Mr. oder Mrs. Right lässt den einen oder anderen verzweifeln. Warum finde ich einfach nicht den oder die Richtige? Was mache ich nur immer wieder falsch? Liegt es an mir? Das sind die bohrenden Fragen, die viele Singles beschäftigen. Ann-Marlene Henning, Sexologin und Neuro-Psychologin, möchte in "Make Love" eingefahrene Muster der Partnerwahl durchbrechen.
SUMMARY:Make Love: Liebe machen kann man lernen (3/5) 01.04.2014 23:30
END:VEVENT
END:VCALENDAR
