BEGIN:VCALENDAR
X-WR-TIMEZONE:Europe/Berlin
X-WR-CALNAME:rbb-Kalender
VERSION:2.0
METHOD:PUBLISH
CALSCALE:GREGORIAN
PRODID:rbb-CMS DAY
BEGIN:VEVENT
LOCATION:Moderation: Sascha Hingst
CLASS:PUBLIC
URL:http://www.rbb-online.de/content/rbb/rbb/fernsehen/programm/02_04_2014/11875365941.html
DTEND:20140402T031000
DTSTART:20140402T024000
UID:/content/rbb/rbb/fernsehen/programm/02_04_2014/11875365941
DTSTAMP:20140404T190721
DESCRIPTION:Themen:\n* Tarifverhandlungen im öffentlichen Dienst vor Abschluss?\n* Umzugschaos in Wilmersdorf\n* Hilfe für Geschäfte in der Invalidenstraße?\n* Wochenserie: Berlin - Peking
SUMMARY:Abendschau 02.04.2014 02:40
END:VEVENT
END:VCALENDAR
