BEGIN:VCALENDAR
X-WR-TIMEZONE:Europe/Berlin
X-WR-CALNAME:rbb-Kalender
VERSION:2.0
METHOD:PUBLISH
CALSCALE:GREGORIAN
PRODID:rbb-CMS DAY
BEGIN:VEVENT
LOCATION:Die Welt von morgen
CLASS:PUBLIC
URL:http://www.rbb-online.de/content/rbb/rbb/fernsehen/programm/02_04_2014/11875366303.html
DTEND:20140402T073000
DTSTART:20140402T070000
UID:/content/rbb/rbb/fernsehen/programm/02_04_2014/11875366303
DTSTAMP:20140404T190907
DESCRIPTION:Themen:\n* Blutdrohne\n* Der Braunkohlewahnsinn\n* Was kostet Strom wirklich?\n* DKFZ - 50 Jahre Forschung für ein Leben ohne Krebs\n* Biotüte in der Kritik\n\nModeration: Ingolf Baur
SUMMARY:nano 02.04.2014 07:00
END:VEVENT
END:VCALENDAR
