BEGIN:VCALENDAR
X-WR-TIMEZONE:Europe/Berlin
X-WR-CALNAME:rbb-Kalender
VERSION:2.0
METHOD:PUBLISH
CALSCALE:GREGORIAN
PRODID:rbb-CMS DAY
BEGIN:VEVENT
LOCATION:Moderation: Sascha Hingst
CLASS:PUBLIC
URL:http://www.rbb-online.de/content/rbb/rbb/fernsehen/programm/02_04_2014/11875366641.html
DTEND:20140402T090000
DTSTART:20140402T083000
UID:/content/rbb/rbb/fernsehen/programm/02_04_2014/11875366641
DTSTAMP:20140404T191157
DESCRIPTION:Themen:\n* Tarifverhandlungen im öffentlichen Dienst vor Abschluss?\n* Umzugschaos in Wilmersdorf\n* Hilfe für Geschäfte in der Invalidenstraße?\n* Wochenserie: Berlin - Peking
SUMMARY:Abendschau 02.04.2014 08:30
END:VEVENT
END:VCALENDAR
