BEGIN:VCALENDAR
X-WR-TIMEZONE:Europe/Berlin
X-WR-CALNAME:rbb-Kalender
VERSION:2.0
METHOD:PUBLISH
CALSCALE:GREGORIAN
PRODID:rbb-CMS DAY
BEGIN:VEVENT
LOCATION:Das Politik-Magazin
CLASS:PUBLIC
URL:http://www.rbb-online.de/content/rbb/rbb/fernsehen/programm/02_04_2014/11875369951.html
DTEND:20140402T224500
DTSTART:20140402T221500
UID:/content/rbb/rbb/fernsehen/programm/02_04_2014/11875369951
DTSTAMP:20140405T051850
DESCRIPTION:Das Flüchtlingslager Oranienplatz - Bleibt der Rechtsstaat auf der Strecke?\n\nLive-Sendung aus dem Klartext-Studio, Gespräche mit verantwortlichen Politikern, Filmbeiträge über die aktuelle Situation.\n\n\n\n\n
SUMMARY:KLARTEXT 02.04.2014 22:15
END:VEVENT
END:VCALENDAR
