BEGIN:VCALENDAR
X-WR-TIMEZONE:Europe/Berlin
X-WR-CALNAME:rbb-Kalender
VERSION:2.0
METHOD:PUBLISH
CALSCALE:GREGORIAN
PRODID:rbb-CMS DAY
BEGIN:VEVENT
CLASS:PUBLIC
URL:http://www.rbb-online.de/content/rbb/rbb/fernsehen/programm/03_04_2014/11881518102.html
DTEND:20140403T060000
DTSTART:20140403T054400
UID:/content/rbb/rbb/fernsehen/programm/03_04_2014/11881518102
DTSTAMP:20140404T191233
DESCRIPTION:Stimmungsvolle Bilder von Fahrten durch das erwachende Potsdam, untermalt vom Soundtrack der Großstadtnacht.
SUMMARY:Potsdam erwacht 03.04.2014 05:44
END:VEVENT
END:VCALENDAR
