BEGIN:VCALENDAR
X-WR-TIMEZONE:Europe/Berlin
X-WR-CALNAME:rbb-Kalender
VERSION:2.0
METHOD:PUBLISH
CALSCALE:GREGORIAN
PRODID:rbb-CMS DAY
BEGIN:VEVENT
LOCATION:Film von Birgit Mittwoch
CLASS:PUBLIC
URL:http://www.rbb-online.de/content/rbb/rbb/fernsehen/programm/03_04_2014/11881518130.html
DTEND:20140403T070000
DTSTART:20140403T063000
UID:/content/rbb/rbb/fernsehen/programm/03_04_2014/11881518130
DTSTAMP:20140404T181945
DESCRIPTION:Die Stunden, in denen Helmut Biermann mit seinen 400 Merino-Schafen über die Wiese zieht, gehören zu den schönsten in seinem Leben. Der Schäfer aus dem Havelland ist einer der wenigen, die noch hüten wie im Bilderbuch. Seine Merino-Schafe stammen mitunter aus alter DDR-Zuchtlinie und tragen gute Wolle. Und doch kann er von der Schafzucht allein nicht leben. Er schafft es nur, weil er sich weitestgehend selbst versorgt. Neben den Schafen hält er noch Hühner, Enten und Kühe. Auch Schäferin Michaela Kaltschmidt liebt ihren Beruf und ihre 1.500 Wolltiere, die ab Mai die Neisse-Deiche abgrasen.
SUMMARY:Die rbb Reporter - Schäfers Stündchen 03.04.2014 06:30
END:VEVENT
END:VCALENDAR
