BEGIN:VCALENDAR
X-WR-TIMEZONE:Europe/Berlin
X-WR-CALNAME:rbb-Kalender
VERSION:2.0
METHOD:PUBLISH
CALSCALE:GREGORIAN
PRODID:rbb-CMS DAY
BEGIN:VEVENT
LOCATION:Leben & genießen
CLASS:PUBLIC
URL:http://www.rbb-online.de/content/rbb/rbb/fernsehen/programm/03_04_2014/11881518242.html
DTEND:20140403T103500
DTSTART:20140403T095500
UID:/content/rbb/rbb/fernsehen/programm/03_04_2014/11881518242
DTSTAMP:20140404T182033
DESCRIPTION:* Guten Appetit: Jacqueline Amirfallah bereitet Lachs in Koriandermariande mit Pilaw zu\n* Ratgeber Ernährung: Bioinflation anhand von Biomöhren\n* Ratgeber Fitness: Tai Chi - Chinesische Bewegungskunst\n* Hallo Buffet: Tai Chi! Ihre Fragen zum Thema werden von Tai Chi-Lehrer Daniel Tjoa beantwortet\n* Ratgeber Fitness: Tai Chi in Schulen\n* Großstadtmenschen: Zeitreise - Günther Maria Halmer\n* Die gute Idee mit Holger Schweizer: Heu-Eier mit kleinen Einzelblüten\n\nModeration: Heike Greis
SUMMARY:ARD-Buffet 03.04.2014 09:55
END:VEVENT
END:VCALENDAR
