BEGIN:VCALENDAR
X-WR-TIMEZONE:Europe/Berlin
X-WR-CALNAME:rbb-Kalender
VERSION:2.0
METHOD:PUBLISH
CALSCALE:GREGORIAN
PRODID:rbb-CMS DAY
BEGIN:VEVENT
LOCATION:Fernsehserie Deutschland 2014
CLASS:PUBLIC
URL:http://www.rbb-online.de/content/rbb/rbb/fernsehen/programm/03_04_2014/11881518274.html
DTEND:20140403T121500
DTSTART:20140403T112500
UID:/content/rbb/rbb/fernsehen/programm/03_04_2014/11881518274
DTSTAMP:20140404T181853
DESCRIPTION:Friedrich und Werner sind durch den Schuss, der sich während des Handgemenges gelöst hat, geschockt, aber unverletzt. Im Gespräch mit André wird Werner klar, dass es ohne Zeugen wohl kaum für eine Anzeige reichen wird. Währenddessen rät ausgerechnet Natascha Charlotte, Friedrichs Geduld nicht mit Vorhaltungen zu strapazieren. Friedrich ist erleichtert, als Charlotte daraufhin wieder einen Schritt auf ihn zugeht. Das hält ihn aber auch nicht davon ab, mit Natascha eine Partie Billard zu spielen, bei der beide merken, wie anziehend sie sich immer noch finden.
SUMMARY:Sturm der Liebe (1956) 03.04.2014 11:25
END:VEVENT
END:VCALENDAR
