BEGIN:VCALENDAR
X-WR-TIMEZONE:Europe/Berlin
X-WR-CALNAME:rbb-Kalender
VERSION:2.0
METHOD:PUBLISH
CALSCALE:GREGORIAN
PRODID:rbb-CMS DAY
BEGIN:VEVENT
LOCATION:Jugendserie Deutschland 1998 - 2011
CLASS:PUBLIC
URL:http://www.rbb-online.de/content/rbb/rbb/fernsehen/programm/03_04_2014/11881518333.html
DTEND:20140403T133000
DTSTART:20140403T130500
UID:/content/rbb/rbb/fernsehen/programm/03_04_2014/11881518333
DTSTAMP:20140404T182026
DESCRIPTION:Ist Herr Werner der Täter? Anna und Thekla sind sich sicher, dass der unangenehme Zeitgenosse aus dem Dorf Seelitz der Mann ist, der Louisa in der Nacht verfolgt hat. Louisa sind die Verdächtigungen ihrer Freundinnen überhaupt nicht geheuer. Die Lage spitzt sich noch zu, als die Polizei eingeschaltet wird und Thekla Herrn Werner in der Eisdiele als Täter anprangert. Doch völlig unerwartet taucht ein neues Beweisstück auf, und nicht nur die Verdächtigungen gegen den Dorfbewohner werden damit zweifelhaft.
SUMMARY:Schloss Einstein (224) 03.04.2014 13:05
END:VEVENT
END:VCALENDAR
