BEGIN:VCALENDAR
X-WR-TIMEZONE:Europe/Berlin
X-WR-CALNAME:rbb-Kalender
VERSION:2.0
METHOD:PUBLISH
CALSCALE:GREGORIAN
PRODID:rbb-CMS DAY
BEGIN:VEVENT
LOCATION:Was geschah mit Sam und Terry?
CLASS:PUBLIC
URL:http://www.rbb-online.de/content/rbb/rbb/fernsehen/programm/03_04_2014/11881518349.html
DTEND:20140403T141500
DTSTART:20140403T133000
UID:/content/rbb/rbb/fernsehen/programm/03_04_2014/11881518349
DTSTAMP:20140404T181809
DESCRIPTION:Jessica muss sich damit herumschlagen, dass ein Mitbürger ausgerechnet in ihrer Garage ermordet wurde.
SUMMARY:Mord ist ihr Hobby (228) 03.04.2014 13:30
END:VEVENT
END:VCALENDAR
