BEGIN:VCALENDAR
X-WR-TIMEZONE:Europe/Berlin
X-WR-CALNAME:rbb-Kalender
VERSION:2.0
METHOD:PUBLISH
CALSCALE:GREGORIAN
PRODID:rbb-CMS DAY
BEGIN:VEVENT
LOCATION:Abenteuer Afrika
CLASS:PUBLIC
URL:http://www.rbb-online.de/content/rbb/rbb/fernsehen/programm/03_04_2014/11881518506.html
DTEND:20140403T175500
DTSTART:20140403T170500
UID:/content/rbb/rbb/fernsehen/programm/03_04_2014/11881518506
DTSTAMP:20140404T181857
DESCRIPTION:Bei den Volontären auf Harnas ist sie besonders beliebt: die tägliche Fütterungstour. Als erstes geht es zu den Straußen. Die Hauptgruppe lebt nicht weit vom Farmzentrum entfernt. Ihre Fütterung ist abenteuerlich, denn die Tiere sind - freundlich ausgedrückt - etwas anhänglich. Volontärin Christina ist zum ersten Mal dabei und kennt sich nicht wirklich aus, Volontär Mitsch ist erst vor kurzem auf Harnas angekommen, weiß er aber schon mal um die gefährlichen Krallen.
SUMMARY:Das Waisenhaus für wilde Tiere (56) 03.04.2014 17:05
END:VEVENT
END:VCALENDAR
