BEGIN:VCALENDAR
X-WR-TIMEZONE:Europe/Berlin
X-WR-CALNAME:rbb-Kalender
VERSION:2.0
METHOD:PUBLISH
CALSCALE:GREGORIAN
PRODID:rbb-CMS DAY
BEGIN:VEVENT
LOCATION:Die Wetteraussichten für Berlin und Brandenburg
CLASS:PUBLIC
URL:http://www.rbb-online.de/content/rbb/rbb/fernsehen/programm/03_04_2014/11881518554.html
DTEND:20140403T183000
DTSTART:20140403T182500
UID:/content/rbb/rbb/fernsehen/programm/03_04_2014/11881518554
DTSTAMP:20140404T181726
DESCRIPTION:
SUMMARY:rbb wetter 03.04.2014 18:25
END:VEVENT
END:VCALENDAR
