BEGIN:VCALENDAR
X-WR-TIMEZONE:Europe/Berlin
X-WR-CALNAME:rbb-Kalender
VERSION:2.0
METHOD:PUBLISH
CALSCALE:GREGORIAN
PRODID:rbb-CMS DAY
BEGIN:VEVENT
LOCATION:Was geschah mit Sam und Terry?
CLASS:PUBLIC
URL:http://www.rbb-online.de/content/rbb/rbb/fernsehen/programm/04_04_2014/11888338233.html
DTEND:20140404T004500
DTSTART:20140404T000000
UID:/content/rbb/rbb/fernsehen/programm/04_04_2014/11888338233
DTSTAMP:20140404T181934
DESCRIPTION:Jessica muss sich damit herumschlagen, dass ein Mitbürger ausgerechnet in ihrer Garage ermordet wurde.
SUMMARY:Mord ist ihr Hobby (228) 04.04.2014 00:00
END:VEVENT
END:VCALENDAR
