BEGIN:VCALENDAR
X-WR-TIMEZONE:Europe/Berlin
X-WR-CALNAME:rbb-Kalender
VERSION:2.0
METHOD:PUBLISH
CALSCALE:GREGORIAN
PRODID:rbb-CMS DAY
BEGIN:VEVENT
LOCATION:Ein unseriöses Angebot
CLASS:PUBLIC
URL:http://www.rbb-online.de/content/rbb/rbb/fernsehen/programm/04_04_2014/11888338255.html
DTEND:20140404T013000
DTSTART:20140404T004500
UID:/content/rbb/rbb/fernsehen/programm/04_04_2014/11888338255
DTSTAMP:20140404T182043
DESCRIPTION:Jessica ist in London, wo einer ihrer Krimis als Theaterstück herausgebracht werden soll. Doch als der Produzent des Stückes ermordet wird, spielt sich bald auch hinter der Bühne ein regelrechter Krimi ab.
SUMMARY:Mord ist ihr Hobby 04.04.2014 00:45
END:VEVENT
END:VCALENDAR
