BEGIN:VCALENDAR
X-WR-TIMEZONE:Europe/Berlin
X-WR-CALNAME:rbb-Kalender
VERSION:2.0
METHOD:PUBLISH
CALSCALE:GREGORIAN
PRODID:rbb-CMS DAY
BEGIN:VEVENT
LOCATION:Das Politik-Magazin
CLASS:PUBLIC
URL:http://www.rbb-online.de/content/rbb/rbb/fernsehen/programm/04_04_2014/11888338400.html
DTEND:20140404T051500
DTSTART:20140404T044500
UID:/content/rbb/rbb/fernsehen/programm/04_04_2014/11888338400
DTSTAMP:20140404T182011
DESCRIPTION:Das Flüchtlingslager Oranienplatz - Bleibt der Rechtsstaat auf der Strecke?\n* Live-Sendung aus dem Klartext-Studio, Gespräche mit verantwortlichen Politikern, Filmbeiträge über die aktuelle Situation.\n\nModeration: Astrid Frohloff
SUMMARY:KLARTEXT 04.04.2014 04:45
END:VEVENT
END:VCALENDAR
