BEGIN:VCALENDAR
X-WR-TIMEZONE:Europe/Berlin
X-WR-CALNAME:rbb-Kalender
VERSION:2.0
METHOD:PUBLISH
CALSCALE:GREGORIAN
PRODID:rbb-CMS DAY
BEGIN:VEVENT
LOCATION:Der Victoria Bahnhof in Mumbai, Indien - Transit für Millionen
CLASS:PUBLIC
URL:http://www.rbb-online.de/content/rbb/rbb/fernsehen/programm/04_04_2014/11888338450.html
DTEND:20140404T061500
DTSTART:20140404T060000
UID:/content/rbb/rbb/fernsehen/programm/04_04_2014/11888338450
DTSTAMP:20140404T094533
DESCRIPTION:Nach zehn Jahren Bauzeit wurde er 1888 eingeweiht. Ankommende Schiffe sahen schon von weitem seine Kuppel. Er symbolisierte den Machtanspruch der Briten in Indien und er war ein Brückenpfeiler für die Erschließung des Subkontinents: Victoria Terminus, ein Bahnhof im Zentrum Mumbais. Es gibt Bahnhöfe, die größer sind, aber keiner ist so betriebsam. Ein Bahnhof der niemals schläft. Der Film beobachtet einen normalen Tag, 24 Stunden, im Victoria Terminus.
SUMMARY:Schätze der Welt - Erbe der Menschheit 04.04.2014 06:00
END:VEVENT
END:VCALENDAR
