BEGIN:VCALENDAR
X-WR-TIMEZONE:Europe/Berlin
X-WR-CALNAME:rbb-Kalender
VERSION:2.0
METHOD:PUBLISH
CALSCALE:GREGORIAN
PRODID:rbb-CMS DAY
BEGIN:VEVENT
LOCATION:Die Welt von morgen
CLASS:PUBLIC
URL:http://www.rbb-online.de/content/rbb/rbb/fernsehen/programm/04_04_2014/11888338509.html
DTEND:20140404T073000
DTSTART:20140404T070000
UID:/content/rbb/rbb/fernsehen/programm/04_04_2014/11888338509
DTSTAMP:20140404T094344
DESCRIPTION:Themen:\n* aktuell: Ebola-Epidemie in Guinea\n* akutell: sauerstoffarme Todeszonen im Meer durch Klimawandel\n* Was ist das Pferd eigentlich für ein Tier?\n* Der Pferderennsport und seine Kehrseite\n* nano camp-Trailer\n* Start des Radarsatelliten Sentinel 1
SUMMARY:nano 04.04.2014 07:00
END:VEVENT
END:VCALENDAR
