BEGIN:VCALENDAR
X-WR-TIMEZONE:Europe/Berlin
X-WR-CALNAME:rbb-Kalender
VERSION:2.0
METHOD:PUBLISH
CALSCALE:GREGORIAN
PRODID:rbb-CMS DAY
BEGIN:VEVENT
LOCATION:Schallparade
CLASS:PUBLIC
URL:http://www.rbb-online.de/content/rbb/rbb/fernsehen/programm/04_04_2014/11888338529.html
DTEND:20140404T074000
DTSTART:20140404T073000
UID:/content/rbb/rbb/fernsehen/programm/04_04_2014/11888338529
DTSTAMP:20140404T094401
DESCRIPTION:"Achtung! Experiment" zeigt die Gültigkeit physikalischer Gesetze und beweist, Wissenschaft ist aufregend und macht Spaß! Den Schall kann man hören, aber nicht sehen. Aber wie kann man diese unsichtbare Größe sichtbar machen? Ein Experiment soll Aufschluss geben: 86 Flaggenschwenker reihen sich auf einer 1,7 Kilometer langen geraden Straße auf. Ein Klang ertönt: Jeder hebt seine Flagge genau dann, wenn er diesen Klang hört. So müsste sich der Weg des Schalls verfolgen und die Schallgeschwindigkeit messen lassen.
SUMMARY:Achtung! Experiment 04.04.2014 07:30
END:VEVENT
END:VCALENDAR
