BEGIN:VCALENDAR
X-WR-TIMEZONE:Europe/Berlin
X-WR-CALNAME:rbb-Kalender
VERSION:2.0
METHOD:PUBLISH
CALSCALE:GREGORIAN
PRODID:rbb-CMS DAY
BEGIN:VEVENT
LOCATION:Das Geheimnis der Parabolantenne
CLASS:PUBLIC
URL:http://www.rbb-online.de/content/rbb/rbb/fernsehen/programm/04_04_2014/11888338537.html
DTEND:20140404T075000
DTSTART:20140404T074000
UID:/content/rbb/rbb/fernsehen/programm/04_04_2014/11888338537
DTSTAMP:20140404T094650
DESCRIPTION:"Achtung! Experiment" zeigt die Gültigkeit physikalischer Gesetze und beweist: Wissenschaft ist aufregend und macht Spaß! Alle Parabolantennen haben die gleiche Form - die einer Parabel. Sie können Radiowellen aus den Tiefen des Alls empfangen, indem sie die schwachen Signale bündeln. Um herauszufinden, wie das funktioniert, hat das Team von "Achtung! Experiment" einen Parabolspiegel im Studio aufgestellt. Es lässt Bälle in den Parabolspiegel fallen und beobachtet, wo diese aufkommen, und wohin sie springen.
SUMMARY:Achtung! Experiment 04.04.2014 07:40
END:VEVENT
END:VCALENDAR
