BEGIN:VCALENDAR
X-WR-TIMEZONE:Europe/Berlin
X-WR-CALNAME:rbb-Kalender
VERSION:2.0
METHOD:PUBLISH
CALSCALE:GREGORIAN
PRODID:rbb-CMS DAY
BEGIN:VEVENT
LOCATION:Moderation: Sascha Hingst
CLASS:PUBLIC
URL:http://www.rbb-online.de/content/rbb/rbb/fernsehen/programm/04_04_2014/11888338574.html
DTEND:20140404T090000
DTSTART:20140404T083000
UID:/content/rbb/rbb/fernsehen/programm/04_04_2014/11888338574
DTSTAMP:20140404T094431
DESCRIPTION:Themen:\n* "BIKINI BERLIN" - Deutschlands erste Concept Mall eröffnet\n* TU Berlin unter neuer Leitung\n* Wochenserie: Berlin - Peking\n* Wetterausblick: Anni Dunkelmann beim Waldsäubern
SUMMARY:Abendschau 04.04.2014 08:30
END:VEVENT
END:VCALENDAR
