BEGIN:VCALENDAR
X-WR-TIMEZONE:Europe/Berlin
X-WR-CALNAME:rbb-Kalender
VERSION:2.0
METHOD:PUBLISH
CALSCALE:GREGORIAN
PRODID:rbb-CMS DAY
BEGIN:VEVENT
LOCATION:Fernsehserie Deutschland 2014
CLASS:PUBLIC
URL:http://www.rbb-online.de/content/rbb/rbb/fernsehen/programm/04_04_2014/11888338662.html
DTEND:20140404T121500
DTSTART:20140404T112500
UID:/content/rbb/rbb/fernsehen/programm/04_04_2014/11888338662
DTSTAMP:20140404T094443
DESCRIPTION:Werner beobachtet, wie Friedrich und Natascha den Abend gemeinsam ausklingen lassen und wird in seiner Vermutung bestätigt, dass sich die beiden näher gekommen sind. Umso entschlossener will Werner nun mit Hilfe eines Vaterschaftstests beweisen, was für ein gewissenloser Lügner Friedrich ist. Werner weiß von Michael, dass Vaterschaftstests zwar in Deutschland während der Schwangerschaft verboten sind - nicht aber in Österreich. So will er sein Vorhaben im Geheimen durchführen. Nachdem Leonard Pauline und Daniel bei einem sehr nahen Moment überrascht hat, kommt es zwischen den beiden Kontrahenten zu einer kleinen Auseinandersetzung.
SUMMARY:Sturm der Liebe (1957) 04.04.2014 11:25
END:VEVENT
END:VCALENDAR
