BEGIN:VCALENDAR
X-WR-TIMEZONE:Europe/Berlin
X-WR-CALNAME:rbb-Kalender
VERSION:2.0
METHOD:PUBLISH
CALSCALE:GREGORIAN
PRODID:rbb-CMS DAY
BEGIN:VEVENT
LOCATION:Lügengeschichten!
CLASS:PUBLIC
URL:http://www.rbb-online.de/content/rbb/rbb/fernsehen/programm/04_04_2014/11888338806.html
DTEND:20140404T133000
DTSTART:20140404T130500
UID:/content/rbb/rbb/fernsehen/programm/04_04_2014/11888338806
DTSTAMP:20140404T094413
DESCRIPTION:Louisa kann ihre Märchen vom nächtlichen Verfolger nicht mehr aufrechterhalten. Sie gesteht Thekla und Anna, dass sie alles nur als Ausrede für ihr wiederholtes Zuspätkommen erfunden hat. "Wegen Reichtum geschlossen!" Ein Schild mit dieser Aufschrift hängt am Eingang zu Giovannis Eisdiele. Der hat tatsächlich im Lotto gewonnen und ist erst mal in den sonnigen Süden gedüst. Papageno ist weg! Emely hat sich bereit erklärt, für einen Tag auf den Wellensittich ihrer Tante aufzupassen.
SUMMARY:Schloss Einstein (225) 04.04.2014 13:05
END:VEVENT
END:VCALENDAR
