BEGIN:VCALENDAR
X-WR-TIMEZONE:Europe/Berlin
X-WR-CALNAME:rbb-Kalender
VERSION:2.0
METHOD:PUBLISH
CALSCALE:GREGORIAN
PRODID:rbb-CMS DAY
BEGIN:VEVENT
LOCATION:Spielfilm Deutschland 1996
CLASS:PUBLIC
URL:http://www.rbb-online.de/content/rbb/rbb/fernsehen/programm/05_04_2014/11894864978.html
DTEND:20140405T072000
DTSTART:20140405T060000
UID:/content/rbb/rbb/fernsehen/programm/05_04_2014/11894864978
DTSTAMP:20140404T183037
DESCRIPTION:Sommer 1996. Im Dorf Woserin in Mecklenburg, brennt nachts ein halbverfallenes Schloss ab. Der stumme Gustav kommt ums Leben. Ein Anlass für den Fischerjungen Mark mit seinen Freunden das Geheimnis der Kormoraninsel aufzudecken. Die Kinder recherchieren, dass dort 1944 der damalige Gutsherr, den Fremdarbeiter Igor erschlagen hat. Erst heute wird darüber geredet. Der Schatz des Grafen spielt ebenso eine wichtige Rolle.
SUMMARY:Das Geheimnis der Kormoraninsel 05.04.2014 06:00
END:VEVENT
END:VCALENDAR
