BEGIN:VCALENDAR
X-WR-TIMEZONE:Europe/Berlin
X-WR-CALNAME:rbb-Kalender
VERSION:2.0
METHOD:PUBLISH
CALSCALE:GREGORIAN
PRODID:rbb-CMS DAY
BEGIN:VEVENT
LOCATION:(6/13) Goldrausch
CLASS:PUBLIC
URL:http://www.rbb-online.de/content/rbb/rbb/fernsehen/programm/05_04_2014/11894864989.html
DTEND:20140405T074500
DTSTART:20140405T072000
UID:/content/rbb/rbb/fernsehen/programm/05_04_2014/11894864989
DTSTAMP:20140404T183008
DESCRIPTION:Joana schafft es endlich, Thorri und Christian zu entzweien. Anstatt miteinander zu reden, leiden die beiden. Christian verflucht Joana, die beschließt, selber einen Weg zurück in die Gegenwart zu suchen.
SUMMARY:Magna Aura - Die versunkene Stadt 05.04.2014 07:20
END:VEVENT
END:VCALENDAR
