BEGIN:VCALENDAR
X-WR-TIMEZONE:Europe/Berlin
X-WR-CALNAME:rbb-Kalender
VERSION:2.0
METHOD:PUBLISH
CALSCALE:GREGORIAN
PRODID:rbb-CMS DAY
BEGIN:VEVENT
LOCATION:(1) Große Kinder, kleine Kinder
CLASS:PUBLIC
URL:http://www.rbb-online.de/content/rbb/rbb/fernsehen/programm/05_04_2014/11894865103.html
DTEND:20140405T121500
DTSTART:20140405T113000
UID:/content/rbb/rbb/fernsehen/programm/05_04_2014/11894865103
DTSTAMP:20140404T182848
DESCRIPTION:Zoo Berlin und Tierpark Berlin freuen sich über eine wahre Babyschwemme. Der tierische Nachwuchs und die dazugehörigen Eltern oder auch Pflegeeltern stehen im Mittelpunkt dieses Spezials von "Panda, Gorilla & Co.".
SUMMARY:Panda, Gorilla & Co. spezial 05.04.2014 11:30
END:VEVENT
END:VCALENDAR
