BEGIN:VCALENDAR
X-WR-TIMEZONE:Europe/Berlin
X-WR-CALNAME:rbb-Kalender
VERSION:2.0
METHOD:PUBLISH
CALSCALE:GREGORIAN
PRODID:rbb-CMS DAY
BEGIN:VEVENT
LOCATION:(2) Große Kinder, Kleine Kinder
CLASS:PUBLIC
URL:http://www.rbb-online.de/content/rbb/rbb/fernsehen/programm/05_04_2014/11894865123.html
DTEND:20140405T130000
DTSTART:20140405T121500
UID:/content/rbb/rbb/fernsehen/programm/05_04_2014/11894865123
DTSTAMP:20140404T183038
DESCRIPTION:"Panda, Gorilla & Co. spezial" besucht im Zoo Berlin und im Tierpark Berlin u.a. die Babys der Katzenbären und der Panzernashörner.
SUMMARY:Panda, Gorilla & Co. spezial 05.04.2014 12:15
END:VEVENT
END:VCALENDAR
