BEGIN:VCALENDAR
X-WR-TIMEZONE:Europe/Berlin
X-WR-CALNAME:rbb-Kalender
VERSION:2.0
METHOD:PUBLISH
CALSCALE:GREGORIAN
PRODID:rbb-CMS DAY
BEGIN:VEVENT
LOCATION:Tiere im Dunkeln
CLASS:PUBLIC
URL:http://www.rbb-online.de/content/rbb/rbb/fernsehen/programm/05_04_2014/11894865153.html
DTEND:20140405T144000
DTSTART:20140405T135000
UID:/content/rbb/rbb/fernsehen/programm/05_04_2014/11894865153
DTSTAMP:20140404T183044
DESCRIPTION:Tierisch gut, die verkehrte Welt der Tiere im Nachttierhaus des Berliner Zoos. Für Plumploris, Erdferkel, Springhasen, Gürtel- und Fingertiere, Fenneks und Mulls wird die Nacht zum Tage, damit die Zoobesucher sie kennen lernen und beobachten können. Besucher und Pfleger tauchen aus dem hellen Tageslicht in die schummrige, abgedunkelte Welt zu ihnen ab.
SUMMARY:tierisch gut! 05.04.2014 13:50
END:VEVENT
END:VCALENDAR
