BEGIN:VCALENDAR
X-WR-TIMEZONE:Europe/Berlin
X-WR-CALNAME:rbb-Kalender
VERSION:2.0
METHOD:PUBLISH
CALSCALE:GREGORIAN
PRODID:rbb-CMS DAY
BEGIN:VEVENT
LOCATION:Pittiplatsch: Als Moppi einen Frühlingstag verschlief
CLASS:PUBLIC
URL:http://www.rbb-online.de/content/rbb/rbb/fernsehen/programm/05_04_2014/11894865245.html
DTEND:20140405T180000
DTSTART:20140405T175000
UID:/content/rbb/rbb/fernsehen/programm/05_04_2014/11894865245
DTSTAMP:20140404T182810
DESCRIPTION:"Unser Sandmännchen" steht nicht nur auf der Hitliste der jüngsten Zuschauer. Es hat seine Fans auch bei den Eltern und Großeltern. Und es ist auch heute seine Aufgabe, die Kinder mit einer Gute-Nacht-Geschichte ins Bett zu bringen.
SUMMARY:Unser Sandmännchen 05.04.2014 17:50
END:VEVENT
END:VCALENDAR
