BEGIN:VCALENDAR
X-WR-TIMEZONE:Europe/Berlin
X-WR-CALNAME:rbb-Kalender
VERSION:2.0
METHOD:PUBLISH
CALSCALE:GREGORIAN
PRODID:rbb-CMS DAY
BEGIN:VEVENT
LOCATION:Unter uns Machos
CLASS:PUBLIC
URL:http://www.rbb-online.de/content/rbb/rbb/fernsehen/programm/05_04_2014/11894865447.html
DTEND:20140405T215000
DTSTART:20140405T210000
UID:/content/rbb/rbb/fernsehen/programm/05_04_2014/11894865447
DTSTAMP:20140404T182811
DESCRIPTION:Der Untersuchungsgefangene Timpe braucht dringend Lieblings Hilfe. Bei einer Verkehrskontrolle entdeckte die Polizei in seinem Wagen neben einem Totschläger 300.000 Mark in bar.
SUMMARY:Liebling Kreuzberg 05.04.2014 21:00
END:VEVENT
END:VCALENDAR
