BEGIN:VCALENDAR
X-WR-TIMEZONE:Europe/Berlin
X-WR-CALNAME:rbb-Kalender
VERSION:2.0
METHOD:PUBLISH
CALSCALE:GREGORIAN
PRODID:rbb-CMS DAY
BEGIN:VEVENT
LOCATION:Spielfilm Großbritannien 1949 (KIND HEARTS AND CORONETS) - Zum 100. Geburtstag von Sir Alec Guinness (02.04.1914)
CLASS:PUBLIC
URL:http://www.rbb-online.de/content/rbb/rbb/fernsehen/programm/05_04_2014/11894865489.html
DTEND:20140406T013000
DTSTART:20140405T235000
UID:/content/rbb/rbb/fernsehen/programm/05_04_2014/11894865489
DTSTAMP:20140404T183112
DESCRIPTION:Louis Mazzinis Mutter ist eine Aristokratin, die nach einer nicht standesgemäßen Heirat von der adligen Sippe verstoßen wurde. Als man ihr die Beisetzung in der Familiengruft verwehrt, beschließt Louis, sich zu rächen: Er will selbst Oberhaupt des herzoglichen Familienclans werden. Um an den Titel zu gelangen, muss er acht Erbberechtigte, die vor ihm an der Reihe sind, aus dem Weg räumen.
SUMMARY:Adel verpflichtet 05.04.2014 23:50
END:VEVENT
END:VCALENDAR
