BEGIN:VCALENDAR
X-WR-TIMEZONE:Europe/Berlin
X-WR-CALNAME:rbb-Kalender
VERSION:2.0
METHOD:PUBLISH
CALSCALE:GREGORIAN
PRODID:rbb-CMS DAY
BEGIN:VEVENT
LOCATION:Zu Gast: Birgit Schrowange
CLASS:PUBLIC
URL:http://www.rbb-online.de/content/rbb/rbb/fernsehen/programm/06_04_2014/11898760169.html
DTEND:20140406T023000
DTSTART:20140406T013000
UID:/content/rbb/rbb/fernsehen/programm/06_04_2014/11898760169
DTSTAMP:20140404T182833
DESCRIPTION:"Frauen im Fernsehen dürfen zwar älter werden\, aber nicht so aussehen\," sagt Birgit Schrowange\, die seit nunmehr 20 Jahren das RTL-Magazin "Extra" moderiert\, am Sonntag bei "Zimmer frei!". "Es ist in diesem Mediengeschäft nicht so einfach\, über all die Jahre zu bestehen"\, fährt sie fort\, zeigt sich aber selbst rundum zufrieden: "Mir geht es gut\, ich bin gesund\, und ich bin immer noch da." Birgit Schrowange erzählt über ihre Liebe zu New York\, von ihrem Traum\, einmal eine Rolle auf dem ZDF-"Traumschiff" zu spielen\, und von ihrer Begeisterung für deutsche Schlager\, die ihrem 13-jährigen Sohn manchmal so richtig peinlich sei.
SUMMARY:Zimmer frei! - Prominente suchen ein Zuhause 06.04.2014 01:30
END:VEVENT
END:VCALENDAR
