BEGIN:VCALENDAR
X-WR-TIMEZONE:Europe/Berlin
X-WR-CALNAME:rbb-Kalender
VERSION:2.0
METHOD:PUBLISH
CALSCALE:GREGORIAN
PRODID:rbb-CMS DAY
BEGIN:VEVENT
LOCATION:Das Gesundheitsmagazin
CLASS:PUBLIC
URL:http://www.rbb-online.de/content/rbb/rbb/fernsehen/programm/06_04_2014/11898760646.html
DTEND:20140406T044000
DTSTART:20140406T035500
UID:/content/rbb/rbb/fernsehen/programm/06_04_2014/11898760646
DTSTAMP:20140404T182823
DESCRIPTION:Themen:\n* Stroke-Einsatz-Mobil verbessert Schlaganfall-Versorgung\n* Heilung mit Überdruck\n* Medikamente gegen Rheuma\n* 100 Jahre Unfallheilkunde in Cottbus\n\nModeration: Raiko Thal
SUMMARY:rbb Praxis 06.04.2014 03:55
END:VEVENT
END:VCALENDAR
