BEGIN:VCALENDAR
X-WR-TIMEZONE:Europe/Berlin
X-WR-CALNAME:rbb-Kalender
VERSION:2.0
METHOD:PUBLISH
CALSCALE:GREGORIAN
PRODID:rbb-CMS DAY
BEGIN:VEVENT
LOCATION:Mit Hirn und Hand
CLASS:PUBLIC
URL:http://www.rbb-online.de/content/rbb/rbb/fernsehen/programm/06_04_2014/11898760752.html
DTEND:20140406T075000
DTSTART:20140406T072500
UID:/content/rbb/rbb/fernsehen/programm/06_04_2014/11898760752
DTSTAMP:20140404T183442
DESCRIPTION:"Wissen macht Ah!" versorgt Klugscheißer - und alle, die es werden wollen - mit dem gewissen Ah!, das Besserwisser vor Neid erblassen lässt. Präsentiert wird das etwas andere TV-Magazin von Shary Reeves und Ralph Caspers.
SUMMARY:Wissen macht Ah! 06.04.2014 07:25
END:VEVENT
END:VCALENDAR
