BEGIN:VCALENDAR
X-WR-TIMEZONE:Europe/Berlin
X-WR-CALNAME:rbb-Kalender
VERSION:2.0
METHOD:PUBLISH
CALSCALE:GREGORIAN
PRODID:rbb-CMS DAY
BEGIN:VEVENT
LOCATION:Affentheater
CLASS:PUBLIC
URL:http://www.rbb-online.de/content/rbb/rbb/fernsehen/programm/06_04_2014/11898760777.html
DTEND:20140406T080000
DTSTART:20140406T075000
UID:/content/rbb/rbb/fernsehen/programm/06_04_2014/11898760777
DTSTAMP:20140404T183340
DESCRIPTION:Heute Morgen rutscht OLI auf einer Bananenschale aus. Und nicht nur auf einer! Die Affen haben überall ihre Schalen hingeworfen. Oli und Käptn Kesselhut überlegen, wie sie diese Rutschfallen wieder los werden. Bis Oli eine bessere Idee hat, was er mit den Schalen anstellen kann. Auf dem Bauernhof ist heute Badetag für die Enten. Enten können im Wasser rumtollen, ohne dabei nass zu werden. An ihren Federn perlt das Wasser einfach ab.
SUMMARY:Morgen OLI (14/100) 06.04.2014 07:50
END:VEVENT
END:VCALENDAR
