BEGIN:VCALENDAR
X-WR-TIMEZONE:Europe/Berlin
X-WR-CALNAME:rbb-Kalender
VERSION:2.0
METHOD:PUBLISH
CALSCALE:GREGORIAN
PRODID:rbb-CMS DAY
BEGIN:VEVENT
CLASS:PUBLIC
URL:http://www.rbb-online.de/content/rbb/rbb/fernsehen/programm/06_04_2014/11898760833.html
DTEND:20140406T105000
DTSTART:20140406T103000
UID:/content/rbb/rbb/fernsehen/programm/06_04_2014/11898760833
DTSTAMP:20140404T183336
DESCRIPTION:Träume und Tragödien, menschliche und tierische Schicksale liefern den Stoff für 'Brisant', das tägliche Boulevard-Magazin der ARD. Eine Mischung aus Information und Unterhaltung: schnell, spannend.
SUMMARY:Brisant 06.04.2014 10:30
END:VEVENT
END:VCALENDAR
